BEGIN:VCALENDAR
VERSION:2.0
PRODID:-//LFG//NONSGML kigkonsult.se iCalcreator 2.30.10//
CALSCALE:GREGORIAN
METHOD:PUBLISH
UID:2688678a-b796-4084-bcc8-61238d3b10c9
X-WR-CALNAME:iCagenda
X-WR-CALDESC:Event Management Extension for Joomla!
X-WR-RELCALID:3E26604A-50F4-4449-8B3E-E4F4932D05B5
X-WR-TIMEZONE:Europe/Zurich
BEGIN:VTIMEZONE
TZID:Europe/Zurich
BEGIN:STANDARD
TZNAME:CET
DTSTART:20201025T030000
TZOFFSETFROM:+0200
TZOFFSETTO:+0100
RDATE:20211031T030000
END:STANDARD
BEGIN:DAYLIGHT
TZNAME:CEST
DTSTART:20200329T020000
TZOFFSETFROM:+0100
TZOFFSETTO:+0200
RDATE:20210328T020000
RDATE:20220327T020000
END:DAYLIGHT
END:VTIMEZONE
BEGIN:VEVENT
UID:2dd11757-b098-4eb0-b916-969b0551837d
DTSTAMP:20260420T052800Z
CATEGORIES:LFG Komiteesitzung
CLASS:PUBLIC
DESCRIPTION:
DTSTART:20210114T180000Z
DTEND:20210114T180000Z
GEO:00;0
LOCATION:Bären Langenthal
ORGANIZER:
SEQUENCE:1
SUMMARY:LFG Komiteesitzung
TRANSP:OPAQUE
URL:https://lfg.ch/icagenda/13-lfg-komiteesitzung/2021-01-14-19-00
END:VEVENT
END:VCALENDAR
