BEGIN:VCALENDAR
VERSION:2.0
PRODID:-//LFG//NONSGML kigkonsult.se iCalcreator 2.30.10//
CALSCALE:GREGORIAN
METHOD:PUBLISH
UID:44b3f70a-e4a2-4309-ba90-a7f6d3777729
X-WR-CALNAME:iCagenda
X-WR-CALDESC:Event Management Extension for Joomla!
X-WR-RELCALID:3E26604A-50F4-4449-8B3E-E4F4932D05B5
X-WR-TIMEZONE:Europe/Zurich
BEGIN:VTIMEZONE
TZID:Europe/Zurich
BEGIN:STANDARD
TZNAME:CET
DTSTART:20211031T030000
TZOFFSETFROM:+0200
TZOFFSETTO:+0100
RDATE:20221030T030000
END:STANDARD
BEGIN:DAYLIGHT
TZNAME:CEST
DTSTART:20210328T020000
TZOFFSETFROM:+0100
TZOFFSETTO:+0200
RDATE:20220327T020000
RDATE:20230326T020000
END:DAYLIGHT
END:VTIMEZONE
BEGIN:VEVENT
UID:08db9431-b032-4189-a150-d78fc93ce5a4
DTSTAMP:20260423T163246Z
CATEGORIES:Abgesagt
CLASS:PUBLIC
DESCRIPTION:
DTSTART:20220203T180000Z
DTEND:20220203T200000Z
GEO:00;0
LOCATION:Ort noch offen
ORGANIZER:
SEQUENCE:1
SUMMARY:Organisationssitzung
TRANSP:OPAQUE
URL:https://lfg.ch/icagenda/35-organisationssitzung
END:VEVENT
END:VCALENDAR
